{"text_format":"3","workbook":"xlsx","n_sheets":3,"sheets":["reeks 1","reeks 2","overzicht"],"read":"whole","date_system":"1900"}

{"sheet":"reeks 1","index":0,"n_rows":28,"n_cols":18,"rows_kept":28}
[null,"totaal","op",100,"test1","test2","test3","test4","test5","test6","test7","test8","test9","test10","test11","test12","test13","test14"]
["MAX",{"$f":"SUM(E2:AAA2)","v":155},"herleiding","afronding",15,20,25,30,15,20,30]
["a",{"$f":"SUM(E3:AAA3)","v":0},{"$f":"B3/$B$2*$D$1","v":0},{"$f":"INT(C3+0.5)","v":0}]
["b",0,{"$f":"B4/$B$2*$D$1","v":0},{"$f":"INT(C4+0.5)","v":0}]
["c",0,0,0]
["d",0,0,0]
["e",0,0,0]
["f",0,0,0]
["g",0,0,0]
["h",0,0,0]
["i",0,0,0]
["j",0,0,0]
["k",0,0,0]
["l",0,0,0]
["m",0,0,0]
["n",0,0,0]
["o",0,0,0]
["p",0,0,0]
["q",0,0,0]
["r",0,0,0]
["s",0,0,0]
["t",0,0,0]
["u",0,0,0]
["v",0,0,0]
["w",0,0,0]
["x",0,0,0]
["y",0,0,0]
["z",0,0,0]

{"sheet":"reeks 2","index":1,"n_rows":28,"n_cols":18,"rows_kept":28}
[null,"totaal","op",100,"test1","test2","test3","test4","test5","test6","test7","test8","test9","test10","test11","test12","test13","test14"]
["MAX",{"$f":"SUM(E2:AAA2)","v":155},"herleiding","afronding",15,20,25,30,15,20,30]
[{"$f":"'reeks 1'!A3","v":"a"},{"$f":"SUM(E3:AAA3)","v":0},{"$f":"B3/$B$2*$D$1","v":0},{"$f":"INT(C3+0.5)","v":0}]
[{"$f":"'reeks 1'!A4","v":"b"},0,{"$f":"B4/$B$2*$D$1","v":0},{"$f":"INT(C4+0.5)","v":0}]
[{"$f":"'reeks 1'!A5","v":"c"},0,0,0]
[{"$f":"'reeks 1'!A6","v":"d"},0,0,0]
[{"$f":"'reeks 1'!A7","v":"e"},0,0,0]
[{"$f":"'reeks 1'!A8","v":"f"},0,0,0]
[{"$f":"'reeks 1'!A9","v":"g"},0,0,0]
[{"$f":"'reeks 1'!A10","v":"h"},0,0,0]
[{"$f":"'reeks 1'!A11","v":"i"},0,0,0]
[{"$f":"'reeks 1'!A12","v":"j"},0,0,0]
[{"$f":"'reeks 1'!A13","v":"k"},0,0,0]
[{"$f":"'reeks 1'!A14","v":"l"},0,0,0]
[{"$f":"'reeks 1'!A15","v":"m"},0,0,0]
[{"$f":"'reeks 1'!A16","v":"n"},0,0,0]
[{"$f":"'reeks 1'!A17","v":"o"},0,0,0]
[{"$f":"'reeks 1'!A18","v":"p"},0,0,0]
[{"$f":"'reeks 1'!A19","v":"q"},0,0,0]
[{"$f":"'reeks 1'!A20","v":"r"},0,0,0]
[{"$f":"'reeks 1'!A21","v":"s"},0,0,0]
[{"$f":"'reeks 1'!A22","v":"t"},0,0,0]
[{"$f":"'reeks 1'!A23","v":"u"},0,0,0]
[{"$f":"'reeks 1'!A24","v":"v"},0,0,0]
[{"$f":"'reeks 1'!A25","v":"w"},0,0,0]
[{"$f":"'reeks 1'!A26","v":"x"},0,0,0]
[{"$f":"'reeks 1'!A27","v":"y"},0,0,0]
[{"$f":"'reeks 1'!A28","v":"z"},0,0,0]

{"sheet":"overzicht","index":2,"n_rows":28,"n_cols":3,"rows_kept":28}
[null,"reeks 1","reeks 2"]
[{"$f":"'reeks 1'!A2","v":"MAX"},{"$f":"'reeks 1'!D1","v":100},{"$f":"'reeks 2'!D1","v":100}]
[{"$f":"'reeks 1'!A3","v":"a"},{"$f":"'reeks 1'!D3","v":0},{"$f":"'reeks 1'!D3","v":0}]
[{"$f":"'reeks 1'!A4","v":"b"},{"$f":"'reeks 1'!D4","v":0},{"$f":"'reeks 1'!D4","v":0}]
[{"$f":"'reeks 1'!A5","v":"c"},{"$f":"'reeks 1'!D5","v":0},{"$f":"'reeks 1'!D5","v":0}]
[{"$f":"'reeks 1'!A6","v":"d"},{"$f":"'reeks 1'!D6","v":0},{"$f":"'reeks 1'!D6","v":0}]
[{"$f":"'reeks 1'!A7","v":"e"},{"$f":"'reeks 1'!D7","v":0},{"$f":"'reeks 1'!D7","v":0}]
[{"$f":"'reeks 1'!A8","v":"f"},{"$f":"'reeks 1'!D8","v":0},{"$f":"'reeks 1'!D8","v":0}]
[{"$f":"'reeks 1'!A9","v":"g"},{"$f":"'reeks 1'!D9","v":0},{"$f":"'reeks 1'!D9","v":0}]
[{"$f":"'reeks 1'!A10","v":"h"},{"$f":"'reeks 1'!D10","v":0},{"$f":"'reeks 1'!D10","v":0}]
[{"$f":"'reeks 1'!A11","v":"i"},{"$f":"'reeks 1'!D11","v":0},{"$f":"'reeks 1'!D11","v":0}]
[{"$f":"'reeks 1'!A12","v":"j"},{"$f":"'reeks 1'!D12","v":0},{"$f":"'reeks 1'!D12","v":0}]
[{"$f":"'reeks 1'!A13","v":"k"},{"$f":"'reeks 1'!D13","v":0},{"$f":"'reeks 1'!D13","v":0}]
[{"$f":"'reeks 1'!A14","v":"l"},{"$f":"'reeks 1'!D14","v":0},{"$f":"'reeks 1'!D14","v":0}]
[{"$f":"'reeks 1'!A15","v":"m"},{"$f":"'reeks 1'!D15","v":0},{"$f":"'reeks 1'!D15","v":0}]
[{"$f":"'reeks 1'!A16","v":"n"},{"$f":"'reeks 1'!D16","v":0},{"$f":"'reeks 1'!D16","v":0}]
[{"$f":"'reeks 1'!A17","v":"o"},{"$f":"'reeks 1'!D17","v":0},{"$f":"'reeks 1'!D17","v":0}]
[{"$f":"'reeks 1'!A18","v":"p"},{"$f":"'reeks 1'!D18","v":0},{"$f":"'reeks 1'!D18","v":0}]
[{"$f":"'reeks 1'!A19","v":"q"},{"$f":"'reeks 1'!D19","v":0},{"$f":"'reeks 1'!D19","v":0}]
[{"$f":"'reeks 1'!A20","v":"r"},{"$f":"'reeks 1'!D20","v":0},{"$f":"'reeks 1'!D20","v":0}]
[{"$f":"'reeks 1'!A21","v":"s"},{"$f":"'reeks 1'!D21","v":0},{"$f":"'reeks 1'!D21","v":0}]
[{"$f":"'reeks 1'!A22","v":"t"},{"$f":"'reeks 1'!D22","v":0},{"$f":"'reeks 1'!D22","v":0}]
[{"$f":"'reeks 1'!A23","v":"u"},{"$f":"'reeks 1'!D23","v":0},{"$f":"'reeks 1'!D23","v":0}]
[{"$f":"'reeks 1'!A24","v":"v"},{"$f":"'reeks 1'!D24","v":0},{"$f":"'reeks 1'!D24","v":0}]
[{"$f":"'reeks 1'!A25","v":"w"},{"$f":"'reeks 1'!D25","v":0},{"$f":"'reeks 1'!D25","v":0}]
[{"$f":"'reeks 1'!A26","v":"x"},{"$f":"'reeks 1'!D26","v":0},{"$f":"'reeks 1'!D26","v":0}]
[{"$f":"'reeks 1'!A27","v":"y"},{"$f":"'reeks 1'!D27","v":0},{"$f":"'reeks 1'!D27","v":0}]
[{"$f":"'reeks 1'!A28","v":"z"},{"$f":"'reeks 1'!D28","v":0},{"$f":"'reeks 1'!D28","v":0}]